Package: iPAC Version: 1.46.0 Command: rm -rf iPAC.buildbin-libdir && mkdir iPAC.buildbin-libdir && /Users/biocbuild/BBS/utils/build-universal.sh iPAC_1.46.0.tar.gz /Library/Frameworks/R.framework/Resources/bin/R iPAC.buildbin-libdir StartedAt: 2024-03-04 00:46:44 -0500 (Mon, 04 Mar 2024) EndedAt: 2024-03-04 00:47:07 -0500 (Mon, 04 Mar 2024) EllapsedTime: 22.8 seconds RetCode: 0 Status: OK PackageFile: iPAC_1.46.0.tgz PackageFileSize: 558.6 KiB