Package: iGC Version: 1.32.0 Command: /Library/Frameworks/R.framework/Resources/bin/R CMD INSTALL iGC StartedAt: 2024-03-03 15:04:58 -0500 (Sun, 03 Mar 2024) EndedAt: 2024-03-03 15:05:32 -0500 (Sun, 03 Mar 2024) EllapsedTime: 33.8 seconds RetCode: 0 Status: OK