Package: iGC Version: 1.32.0 Command: rm -rf iGC.buildbin-libdir && mkdir iGC.buildbin-libdir && /Users/biocbuild/BBS/utils/build-universal.sh iGC_1.32.0.tar.gz /Library/Frameworks/R.framework/Resources/bin/R iGC.buildbin-libdir StartedAt: 2024-03-04 00:46:15 -0500 (Mon, 04 Mar 2024) EndedAt: 2024-03-04 00:46:25 -0500 (Mon, 04 Mar 2024) EllapsedTime: 10.1 seconds RetCode: 0 Status: OK PackageFile: iGC_1.32.0.tgz PackageFileSize: 3.147 MiB