Package: iChip Version: 1.56.0 Command: rm -rf iChip.buildbin-libdir && mkdir iChip.buildbin-libdir && F:\biocbuild\bbs-3.18-bioc\R\bin\R.exe CMD INSTALL --build --library=iChip.buildbin-libdir iChip_1.56.0.tar.gz StartedAt: 2024-04-16 07:09:27 -0400 (Tue, 16 Apr 2024) EndedAt: 2024-04-16 07:09:50 -0400 (Tue, 16 Apr 2024) EllapsedTime: 23.1 seconds RetCode: 0 Status: OK PackageFile: iChip_1.56.0.zip PackageFileSize: 1.823 MiB