Package: iChip Version: 1.56.0 Command: /home/biocbuild/R/R-4.3.1/bin/R CMD check --install=check:iChip.install-out.txt --library=/home/biocbuild/R/R-4.3.1/site-library --no-vignettes --timings iChip_1.56.0.tar.gz StartedAt: 2023-11-02 11:23:14 -0000 (Thu, 02 Nov 2023) EndedAt: 2023-11-02 11:23:43 -0000 (Thu, 02 Nov 2023) EllapsedTime: 29.1 seconds RetCode: 0 Status: WARNINGS CheckDir: iChip.Rcheck Warnings: 1