Package: iCOBRA Version: 1.30.0 Command: /Library/Frameworks/R.framework/Resources/bin/R CMD check --install=check:iCOBRA.install-out.txt --library=/Library/Frameworks/R.framework/Resources/library --no-vignettes --timings iCOBRA_1.30.0.tar.gz StartedAt: 2024-04-16 04:07:26 -0400 (Tue, 16 Apr 2024) EndedAt: 2024-04-16 04:11:58 -0400 (Tue, 16 Apr 2024) EllapsedTime: 271.1 seconds RetCode: 0 Status: OK CheckDir: iCOBRA.Rcheck Warnings: 0