Package: iCOBRA Version: 1.30.0 Command: rm -rf iCOBRA.buildbin-libdir && mkdir iCOBRA.buildbin-libdir && /Users/biocbuild/BBS/utils/build-universal.sh iCOBRA_1.30.0.tar.gz /Library/Frameworks/R.framework/Resources/bin/R iCOBRA.buildbin-libdir StartedAt: 2024-03-04 00:46:11 -0500 (Mon, 04 Mar 2024) EndedAt: 2024-03-04 00:46:32 -0500 (Mon, 04 Mar 2024) EllapsedTime: 20.3 seconds RetCode: 0 Status: OK PackageFile: iCOBRA_1.30.0.tgz PackageFileSize: 2.675 MiB