Package: iCOBRA Version: 1.30.0 Command: /home/biocbuild/R/R-4.3.1/bin/R CMD INSTALL iCOBRA StartedAt: 2023-11-01 20:38:17 -0000 (Wed, 01 Nov 2023) EndedAt: 2023-11-01 20:38:32 -0000 (Wed, 01 Nov 2023) EllapsedTime: 14.9 seconds RetCode: 0 Status: OK