Package: iCOBRA Version: 1.30.0 Command: /home/biocbuild/R/R-4.3.1/bin/R CMD build --keep-empty-dirs --no-resave-data iCOBRA StartedAt: 2023-11-02 02:17:25 -0000 (Thu, 02 Nov 2023) EndedAt: 2023-11-02 02:17:59 -0000 (Thu, 02 Nov 2023) EllapsedTime: 33.0 seconds RetCode: 0 Status: OK PackageFile: iCOBRA_1.30.0.tar.gz PackageFileSize: 3.044 MiB