Package: iBMQ Version: 1.42.0 Command: chmod a+r iBMQ -R && F:\biocbuild\bbs-3.18-bioc\R\bin\R.exe CMD build --keep-empty-dirs --no-resave-data iBMQ StartedAt: 2024-04-15 19:04:46 -0400 (Mon, 15 Apr 2024) EndedAt: 2024-04-15 19:05:20 -0400 (Mon, 15 Apr 2024) EllapsedTime: 33.9 seconds RetCode: 0 Status: OK PackageFile: iBMQ_1.42.0.tar.gz PackageFileSize: 3.886 MiB