Package: iBBiG Version: 1.46.0 Command: /home/biocbuild/R/R-4.3.1/bin/R CMD check --install=check:iBBiG.install-out.txt --library=/home/biocbuild/R/R-4.3.1/site-library --no-vignettes --timings iBBiG_1.46.0.tar.gz StartedAt: 2023-11-02 11:22:33 -0000 (Thu, 02 Nov 2023) EndedAt: 2023-11-02 11:24:50 -0000 (Thu, 02 Nov 2023) EllapsedTime: 136.3 seconds RetCode: 0 Status: OK CheckDir: iBBiG.Rcheck Warnings: 0