Package: iASeq Version: 1.46.0 Command: /home/biocbuild/bbs-3.18-bioc/R/bin/R CMD check --install=check:iASeq.install-out.txt --library=/home/biocbuild/bbs-3.18-bioc/R/site-library --timings iASeq_1.46.0.tar.gz StartedAt: 2024-04-15 23:52:25 -0400 (Mon, 15 Apr 2024) EndedAt: 2024-04-15 23:52:49 -0400 (Mon, 15 Apr 2024) EllapsedTime: 24.3 seconds RetCode: 0 Status: OK CheckDir: iASeq.Rcheck Warnings: 0