Package: iASeq Version: 1.46.0 Command: /Library/Frameworks/R.framework/Resources/bin/R CMD INSTALL iASeq StartedAt: 2024-04-15 16:39:14 -0400 (Mon, 15 Apr 2024) EndedAt: 2024-04-15 16:39:20 -0400 (Mon, 15 Apr 2024) EllapsedTime: 5.7 seconds RetCode: 0 Status: OK