Package: iASeq Version: 1.46.0 Command: /Library/Frameworks/R.framework/Resources/bin/R CMD check --install=check:iASeq.install-out.txt --library=/Library/Frameworks/R.framework/Resources/library --no-vignettes --timings iASeq_1.46.0.tar.gz StartedAt: 2024-03-03 21:13:11 -0500 (Sun, 03 Mar 2024) EndedAt: 2024-03-03 21:13:44 -0500 (Sun, 03 Mar 2024) EllapsedTime: 33.1 seconds RetCode: 0 Status: OK CheckDir: iASeq.Rcheck Warnings: 0