Package: iASeq Version: 1.46.0 Command: rm -rf iASeq.buildbin-libdir && mkdir iASeq.buildbin-libdir && /Users/biocbuild/BBS/utils/build-universal.sh iASeq_1.46.0.tar.gz /Library/Frameworks/R.framework/Resources/bin/R iASeq.buildbin-libdir StartedAt: 2024-03-04 00:46:04 -0500 (Mon, 04 Mar 2024) EndedAt: 2024-03-04 00:46:11 -0500 (Mon, 04 Mar 2024) EllapsedTime: 7.0 seconds RetCode: 0 Status: OK PackageFile: iASeq_1.46.0.tgz PackageFileSize: 253.7 KiB