Package: hypergraph Version: 1.74.0 Command: chmod a+r hypergraph -R && F:\biocbuild\bbs-3.18-bioc\R\bin\R.exe CMD build --keep-empty-dirs --no-resave-data hypergraph StartedAt: 2024-04-15 19:04:29 -0400 (Mon, 15 Apr 2024) EndedAt: 2024-04-15 19:04:30 -0400 (Mon, 15 Apr 2024) EllapsedTime: 1.0 seconds RetCode: 0 Status: OK PackageFile: hypergraph_1.74.0.tar.gz PackageFileSize: 8.272 KiB