Package: hypergraph Version: 1.74.0 Command: /home/biocbuild/bbs-3.18-bioc/R/bin/R CMD check --install=check:hypergraph.install-out.txt --library=/home/biocbuild/bbs-3.18-bioc/R/site-library --timings hypergraph_1.74.0.tar.gz StartedAt: 2024-04-15 23:52:19 -0400 (Mon, 15 Apr 2024) EndedAt: 2024-04-15 23:52:42 -0400 (Mon, 15 Apr 2024) EllapsedTime: 23.0 seconds RetCode: 0 Status: OK CheckDir: hypergraph.Rcheck Warnings: 0