Package: hypergraph Version: 1.74.0 Command: /Library/Frameworks/R.framework/Resources/bin/R CMD INSTALL hypergraph StartedAt: 2024-04-15 15:07:19 -0400 (Mon, 15 Apr 2024) EndedAt: 2024-04-15 15:07:29 -0400 (Mon, 15 Apr 2024) EllapsedTime: 9.8 seconds RetCode: 0 Status: OK