Package: hypeR Version: 2.0.0 Command: chmod a+r hypeR -R && F:\biocbuild\bbs-3.18-bioc\R\bin\R.exe CMD build --keep-empty-dirs --no-resave-data hypeR StartedAt: 2024-04-15 19:04:25 -0400 (Mon, 15 Apr 2024) EndedAt: 2024-04-15 19:04:48 -0400 (Mon, 15 Apr 2024) EllapsedTime: 22.8 seconds RetCode: 0 Status: OK PackageFile: hypeR_2.0.0.tar.gz PackageFileSize: 316.5 KiB