Package: hypeR Version: 2.0.0 Command: rm -rf hypeR.buildbin-libdir && mkdir hypeR.buildbin-libdir && F:\biocbuild\bbs-3.18-bioc\R\bin\R.exe CMD INSTALL --build --library=hypeR.buildbin-libdir hypeR_2.0.0.tar.gz StartedAt: 2024-04-16 07:09:09 -0400 (Tue, 16 Apr 2024) EndedAt: 2024-04-16 07:09:45 -0400 (Tue, 16 Apr 2024) EllapsedTime: 36.1 seconds RetCode: 0 Status: OK PackageFile: hypeR_2.0.0.zip PackageFileSize: 598.1 KiB