Package: hypeR Version: 2.0.0 Command: /home/biocbuild/bbs-3.18-bioc/R/bin/R CMD check --install=check:hypeR.install-out.txt --library=/home/biocbuild/bbs-3.18-bioc/R/site-library --timings hypeR_2.0.0.tar.gz StartedAt: 2024-04-15 23:51:54 -0400 (Mon, 15 Apr 2024) EndedAt: 2024-04-15 23:54:47 -0400 (Mon, 15 Apr 2024) EllapsedTime: 172.8 seconds RetCode: 1 Status: ERROR CheckDir: hypeR.Rcheck Warnings: NA