Package: hypeR Version: 2.0.0 Command: /Library/Frameworks/R.framework/Resources/bin/R CMD INSTALL hypeR StartedAt: 2024-03-03 15:40:25 -0500 (Sun, 03 Mar 2024) EndedAt: 2024-03-03 15:40:38 -0500 (Sun, 03 Mar 2024) EllapsedTime: 13.1 seconds RetCode: 0 Status: OK