Package: hummingbird Version: 1.12.0 Command: rm -rf hummingbird.buildbin-libdir && mkdir hummingbird.buildbin-libdir && F:\biocbuild\bbs-3.18-bioc\R\bin\R.exe CMD INSTALL --build --library=hummingbird.buildbin-libdir hummingbird_1.12.0.tar.gz StartedAt: 2024-04-16 07:09:06 -0400 (Tue, 16 Apr 2024) EndedAt: 2024-04-16 07:09:40 -0400 (Tue, 16 Apr 2024) EllapsedTime: 33.6 seconds RetCode: 0 Status: OK PackageFile: hummingbird_1.12.0.zip PackageFileSize: 774.9 KiB