Package: hummingbird Version: 1.12.0 Command: /Library/Frameworks/R.framework/Resources/bin/R CMD check --install=check:hummingbird.install-out.txt --library=/Library/Frameworks/R.framework/Resources/library --no-vignettes --timings hummingbird_1.12.0.tar.gz StartedAt: 2024-04-16 04:04:28 -0400 (Tue, 16 Apr 2024) EndedAt: 2024-04-16 04:09:32 -0400 (Tue, 16 Apr 2024) EllapsedTime: 304.2 seconds RetCode: 0 Status: OK CheckDir: hummingbird.Rcheck Warnings: 0