Package: hummingbird Version: 1.12.0 Command: /Library/Frameworks/R.framework/Resources/bin/R CMD INSTALL hummingbird StartedAt: 2024-03-03 15:12:11 -0500 (Sun, 03 Mar 2024) EndedAt: 2024-03-03 15:12:45 -0500 (Sun, 03 Mar 2024) EllapsedTime: 34.3 seconds RetCode: 0 Status: OK