Package: hummingbird Version: 1.12.0 Command: /home/biocbuild/R/R-4.3.1/bin/R CMD INSTALL hummingbird StartedAt: 2023-11-01 20:13:26 -0000 (Wed, 01 Nov 2023) EndedAt: 2023-11-01 20:14:03 -0000 (Wed, 01 Nov 2023) EllapsedTime: 36.7 seconds RetCode: 0 Status: OK