Package: hpar Version: 1.44.0 Command: /home/biocbuild/bbs-3.18-bioc/R/bin/R CMD check --install=check:hpar.install-out.txt --library=/home/biocbuild/bbs-3.18-bioc/R/site-library --timings hpar_1.44.0.tar.gz StartedAt: 2024-04-15 23:50:24 -0400 (Mon, 15 Apr 2024) EndedAt: 2024-04-15 23:53:38 -0400 (Mon, 15 Apr 2024) EllapsedTime: 193.7 seconds RetCode: 0 Status: OK CheckDir: hpar.Rcheck Warnings: 0