Package: hpar Version: 1.44.0 Command: rm -rf hpar.buildbin-libdir && mkdir hpar.buildbin-libdir && /Users/biocbuild/BBS/utils/build-universal.sh hpar_1.44.0.tar.gz /Library/Frameworks/R.framework/Resources/bin/R hpar.buildbin-libdir StartedAt: 2024-04-16 11:58:41 -0400 (Tue, 16 Apr 2024) EndedAt: 2024-04-16 11:59:35 -0400 (Tue, 16 Apr 2024) EllapsedTime: 54.1 seconds RetCode: 0 Status: OK PackageFile: hpar_1.44.0.tgz PackageFileSize: 638.2 KiB