Package: hpar Version: 1.44.0 Command: /Library/Frameworks/R.framework/Resources/bin/R CMD build --keep-empty-dirs --no-resave-data hpar StartedAt: 2024-03-03 17:03:37 -0500 (Sun, 03 Mar 2024) EndedAt: 2024-03-03 17:04:29 -0500 (Sun, 03 Mar 2024) EllapsedTime: 52.0 seconds RetCode: 0 Status: OK PackageFile: hpar_1.44.0.tar.gz PackageFileSize: 885.3 KiB