Package: hopach Version: 2.62.0 Command: /Library/Frameworks/R.framework/Resources/bin/R CMD INSTALL hopach StartedAt: 2024-03-03 15:04:33 -0500 (Sun, 03 Mar 2024) EndedAt: 2024-03-03 15:05:10 -0500 (Sun, 03 Mar 2024) EllapsedTime: 37.0 seconds RetCode: 0 Status: OK