Package: hoodscanR Version: 1.0.0 Command: rm -rf hoodscanR.buildbin-libdir && mkdir hoodscanR.buildbin-libdir && /Users/biocbuild/BBS/utils/build-universal.sh hoodscanR_1.0.0.tar.gz /Library/Frameworks/R.framework/Resources/bin/R hoodscanR.buildbin-libdir StartedAt: 2024-04-16 11:58:33 -0400 (Tue, 16 Apr 2024) EndedAt: 2024-04-16 12:00:15 -0400 (Tue, 16 Apr 2024) EllapsedTime: 101.4 seconds RetCode: 0 Status: OK PackageFile: hoodscanR_1.0.0.tgz PackageFileSize: 3.125 MiB