Package: hoodscanR Version: 1.0.0 Command: /Library/Frameworks/R.framework/Resources/bin/R CMD build --keep-empty-dirs --no-resave-data hoodscanR StartedAt: 2024-03-03 17:03:28 -0500 (Sun, 03 Mar 2024) EndedAt: 2024-03-03 17:04:37 -0500 (Sun, 03 Mar 2024) EllapsedTime: 69.0 seconds RetCode: 0 Status: OK PackageFile: hoodscanR_1.0.0.tar.gz PackageFileSize: 2.836 MiB