Package: hoodscanR Version: 1.0.0 Command: /home/biocbuild/R/R-4.3.1/bin/R CMD build --keep-empty-dirs --no-resave-data hoodscanR StartedAt: 2023-11-02 02:09:35 -0000 (Thu, 02 Nov 2023) EndedAt: 2023-11-02 02:10:59 -0000 (Thu, 02 Nov 2023) EllapsedTime: 84.1 seconds RetCode: 0 Status: OK PackageFile: hoodscanR_1.0.0.tar.gz PackageFileSize: 2.758 MiB