Package: hmdbQuery Version: 1.22.0 Command: /home/biocbuild/bbs-3.18-bioc/R/bin/R CMD check --install=check:hmdbQuery.install-out.txt --library=/home/biocbuild/bbs-3.18-bioc/R/site-library --timings hmdbQuery_1.22.0.tar.gz StartedAt: 2024-04-15 23:48:53 -0400 (Mon, 15 Apr 2024) EndedAt: 2024-04-15 23:50:24 -0400 (Mon, 15 Apr 2024) EllapsedTime: 91.3 seconds RetCode: 0 Status: OK CheckDir: hmdbQuery.Rcheck Warnings: 0