Package: hierinf Version: 1.20.0 Command: /home/biocbuild/bbs-3.18-bioc/R/bin/R CMD check --install=check:hierinf.install-out.txt --library=/home/biocbuild/bbs-3.18-bioc/R/site-library --timings hierinf_1.20.0.tar.gz StartedAt: 2024-04-15 23:46:04 -0400 (Mon, 15 Apr 2024) EndedAt: 2024-04-15 23:51:31 -0400 (Mon, 15 Apr 2024) EllapsedTime: 326.6 seconds RetCode: 0 Status: OK CheckDir: hierinf.Rcheck Warnings: 0