Package: hierinf Version: 1.20.0 Command: /home/biocbuild/bbs-3.18-bioc/R/bin/R CMD build --keep-empty-dirs --no-resave-data hierinf StartedAt: 2024-04-15 17:30:30 -0400 (Mon, 15 Apr 2024) EndedAt: 2024-04-15 17:31:51 -0400 (Mon, 15 Apr 2024) EllapsedTime: 80.4 seconds RetCode: 0 Status: OK PackageFile: hierinf_1.20.0.tar.gz PackageFileSize: 429.6 KiB