Package: hierGWAS Version: 1.32.0 Command: /Library/Frameworks/R.framework/Resources/bin/R CMD INSTALL hierGWAS StartedAt: 2024-04-15 16:05:46 -0400 (Mon, 15 Apr 2024) EndedAt: 2024-04-15 16:05:59 -0400 (Mon, 15 Apr 2024) EllapsedTime: 12.5 seconds RetCode: 0 Status: OK