Package: hicVennDiagram Version: 1.0.1 Command: /Library/Frameworks/R.framework/Resources/bin/R CMD check --install=check:hicVennDiagram.install-out.txt --library=/Library/Frameworks/R.framework/Resources/library --no-vignettes --timings hicVennDiagram_1.0.1.tar.gz StartedAt: 2024-03-03 21:08:28 -0500 (Sun, 03 Mar 2024) EndedAt: 2024-03-03 21:13:15 -0500 (Sun, 03 Mar 2024) EllapsedTime: 286.8 seconds RetCode: 0 Status: OK CheckDir: hicVennDiagram.Rcheck Warnings: 0