Package: hicVennDiagram Version: 1.0.1 Command: /Library/Frameworks/R.framework/Resources/bin/R CMD build --keep-empty-dirs --no-resave-data hicVennDiagram StartedAt: 2024-03-03 17:02:28 -0500 (Sun, 03 Mar 2024) EndedAt: 2024-03-03 17:03:37 -0500 (Sun, 03 Mar 2024) EllapsedTime: 68.9 seconds RetCode: 0 Status: OK PackageFile: hicVennDiagram_1.0.1.tar.gz PackageFileSize: 969.3 KiB