Package: hicVennDiagram Version: 1.0.1 Command: rm -rf hicVennDiagram.buildbin-libdir && mkdir hicVennDiagram.buildbin-libdir && /Users/biocbuild/BBS/utils/build-universal.sh hicVennDiagram_1.0.1.tar.gz /Library/Frameworks/R.framework/Resources/bin/R hicVennDiagram.buildbin-libdir StartedAt: 2024-03-04 00:45:29 -0500 (Mon, 04 Mar 2024) EndedAt: 2024-03-04 00:46:20 -0500 (Mon, 04 Mar 2024) EllapsedTime: 50.2 seconds RetCode: 0 Status: OK PackageFile: hicVennDiagram_1.0.1.tgz PackageFileSize: 1.2 MiB