Package: hiReadsProcessor Version: 1.38.0 Command: /home/biocbuild/R/R-4.3.1/bin/R CMD INSTALL hiReadsProcessor StartedAt: 2023-11-01 20:25:44 -0000 (Wed, 01 Nov 2023) EndedAt: 2023-11-01 20:26:37 -0000 (Wed, 01 Nov 2023) EllapsedTime: 53.1 seconds RetCode: 0 Status: OK