Package: hiReadsProcessor Version: 1.38.0 Command: /home/biocbuild/R/R-4.3.1/bin/R CMD build --keep-empty-dirs --no-resave-data hiReadsProcessor StartedAt: 2023-11-02 02:08:10 -0000 (Thu, 02 Nov 2023) EndedAt: 2023-11-02 02:09:23 -0000 (Thu, 02 Nov 2023) EllapsedTime: 73.1 seconds RetCode: 0 Status: OK PackageFile: hiReadsProcessor_1.38.0.tar.gz PackageFileSize: 3.147 MiB