Package: hiAnnotator Version: 1.36.0 Command: /Library/Frameworks/R.framework/Resources/bin/R CMD INSTALL hiAnnotator StartedAt: 2024-03-03 15:18:11 -0500 (Sun, 03 Mar 2024) EndedAt: 2024-03-03 15:19:02 -0500 (Sun, 03 Mar 2024) EllapsedTime: 52.0 seconds RetCode: 0 Status: OK