Package: hiAnnotator Version: 1.36.0 Command: /Library/Frameworks/R.framework/Resources/bin/R CMD check --install=check:hiAnnotator.install-out.txt --library=/Library/Frameworks/R.framework/Resources/library --no-vignettes --timings hiAnnotator_1.36.0.tar.gz StartedAt: 2024-03-03 21:07:15 -0500 (Sun, 03 Mar 2024) EndedAt: 2024-03-03 21:11:44 -0500 (Sun, 03 Mar 2024) EllapsedTime: 269.1 seconds RetCode: 0 Status: OK CheckDir: hiAnnotator.Rcheck Warnings: 0