Package: hiAnnotator Version: 1.36.0 Command: /Library/Frameworks/R.framework/Resources/bin/R CMD build --keep-empty-dirs --no-resave-data hiAnnotator StartedAt: 2024-03-03 17:01:41 -0500 (Sun, 03 Mar 2024) EndedAt: 2024-03-03 17:02:51 -0500 (Sun, 03 Mar 2024) EllapsedTime: 70.0 seconds RetCode: 0 Status: OK PackageFile: hiAnnotator_1.36.0.tar.gz PackageFileSize: 757.8 KiB