Package: hca Version: 1.10.1 Command: /Library/Frameworks/R.framework/Resources/bin/R CMD check --install=check:hca.install-out.txt --library=/Library/Frameworks/R.framework/Resources/library --no-vignettes --timings hca_1.10.1.tar.gz StartedAt: 2024-04-16 03:50:18 -0400 (Tue, 16 Apr 2024) EndedAt: 2024-04-16 03:54:55 -0400 (Tue, 16 Apr 2024) EllapsedTime: 277.4 seconds RetCode: 0 Status: OK CheckDir: hca.Rcheck Warnings: 0