Package: gwasurvivr Version: 1.20.0 Command: /home/biocbuild/bbs-3.18-bioc/R/bin/R CMD check --install=check:gwasurvivr.install-out.txt --library=/home/biocbuild/bbs-3.18-bioc/R/site-library --timings gwasurvivr_1.20.0.tar.gz StartedAt: 2024-04-15 23:38:01 -0400 (Mon, 15 Apr 2024) EndedAt: 2024-04-15 23:48:22 -0400 (Mon, 15 Apr 2024) EllapsedTime: 620.4 seconds RetCode: 0 Status: OK CheckDir: gwasurvivr.Rcheck Warnings: 0