Package: gwascat Version: 2.34.0 Command: F:\biocbuild\bbs-3.18-bioc\R\bin\R.exe CMD check --no-multiarch --install=check:gwascat.install-out.txt --library=F:\biocbuild\bbs-3.18-bioc\R\library --no-vignettes --timings gwascat_2.34.0.tar.gz StartedAt: 2024-04-16 01:32:18 -0400 (Tue, 16 Apr 2024) EndedAt: 2024-04-16 01:41:38 -0400 (Tue, 16 Apr 2024) EllapsedTime: 560.5 seconds RetCode: 0 Status: OK CheckDir: gwascat.Rcheck Warnings: 0