Package: gwascat Version: 2.34.0 Command: rm -rf gwascat.buildbin-libdir && mkdir gwascat.buildbin-libdir && F:\biocbuild\bbs-3.18-bioc\R\bin\R.exe CMD INSTALL --build --library=gwascat.buildbin-libdir gwascat_2.34.0.tar.gz StartedAt: 2024-04-16 07:07:30 -0400 (Tue, 16 Apr 2024) EndedAt: 2024-04-16 07:08:34 -0400 (Tue, 16 Apr 2024) EllapsedTime: 64.0 seconds RetCode: 0 Status: OK PackageFile: gwascat_2.34.0.zip PackageFileSize: 33.88 MiB