Package: gwascat Version: 2.34.0 Command: /Library/Frameworks/R.framework/Resources/bin/R CMD check --install=check:gwascat.install-out.txt --library=/Library/Frameworks/R.framework/Resources/library --no-vignettes --timings gwascat_2.34.0.tar.gz StartedAt: 2024-04-16 03:48:08 -0400 (Tue, 16 Apr 2024) EndedAt: 2024-04-16 04:03:47 -0400 (Tue, 16 Apr 2024) EllapsedTime: 938.9 seconds RetCode: 0 Status: OK CheckDir: gwascat.Rcheck Warnings: 0